BEGIN:VCALENDAR
VERSION:2.0
PRODID:icalendar-ruby
CALSCALE:GREGORIAN
BEGIN:VTIMEZONE
TZID:Europe/Dublin
BEGIN:DAYLIGHT
DTSTART:20241027T010000
TZOFFSETFROM:+0100
TZOFFSETTO:+0000
RRULE:FREQ=YEARLY;BYDAY=-1SU;BYMONTH=10
TZNAME:GMT
END:DAYLIGHT
BEGIN:STANDARD
DTSTART:20250330T020000
TZOFFSETFROM:+0000
TZOFFSETTO:+0100
RRULE:FREQ=YEARLY;BYDAY=-1SU;BYMONTH=3
TZNAME:IST
END:STANDARD
END:VTIMEZONE
BEGIN:VEVENT
DTSTAMP:20260421T131024Z
UID:VrWdaA
DTSTART;TZID=Europe/Dublin:20241205T200000
DTEND;TZID=Europe/Dublin:20241205T220000
CLASS:PUBLIC
CREATED:20241113T165539
DESCRIPTION: Doors 7:30pm/Music 8:00pm \n\n "music that seduces on multiple
  levels" - ALL ABOUT JAZZ \n\n Rising star of Norwegian jazz\, Liv Hauge's
  piano trio blends the joy of exploring impulses in free improvisation wit
 h clear\, melodic compositions. Already acclaimed across the European scen
 e\, her trio with Georgia Wartel Collins (double bass)\, and August Glänn
 estrand (drums) create beautiful melodies and broad shape-shifting soundsc
 apes evocative of their Scandinavian homelands. \n\n Winners of the 2023 Z
 enith award for outstanding emerging European artists (in association with
  IMC’s 12 Points Festival)\, this ensemble’s instinctive interplay mak
 es for a deeply fulfilling live experience. \n\n This tour in Ireland is p
 art of the Better Live Music programme. Better Live is a project co-funded
  by the European Creative programme of the European Union\, and the Polish
  Ministry of Culture and National Heritage from the Culture Promotion Fund
 . \n
LAST-MODIFIED:20250610T105911
LOCATION:The Cooler at The Complex\, Mary's Abbey\, Dublin 7.
ORGANIZER:mailto:admin@improvisedmusic.ie
SUMMARY:Liv Andrea Hauge Trio at The Cooler
URL;VALUE=URI:https://ti.to/improvised-music-company/liv-andrea-hauge-2024
URL;VALUE=URI:https://ti.to/improvised-music-company/liv-andrea-hauge-2024
END:VEVENT
END:VCALENDAR
