BEGIN:VCALENDAR
VERSION:2.0
PRODID:icalendar-ruby
CALSCALE:GREGORIAN
BEGIN:VEVENT
DTSTAMP:20260421T130439Z
UID:jR1utw
DTSTART:20241007T130000
DTEND:20241007T160000
CLASS:PUBLIC
CREATED:20240917T155532
DESCRIPTION: Date: Monday 7th October \n\n Time: Talk at 1pm\, limited 1:1 
 consultation slots available from 2:00pm-4:00pm \n\n Location: Online via 
 Zoom \n\n Event Overview:\nEach month\, Improvised Music Company hosts Coo
 ler Clinic CPD events at The Cooler at The Complex or Online. \n\n In Octo
 ber\, we’re hosting an online discussion about sustainable touring as pa
 rt of the Better Live programme. We’ll outline some of the opportunities
  and challenges artists are facing with the climate crisis\, and offer som
 e tips and ideas on \n\n \n Small adjustments for a more sustainable tour 
 \n Green riders and negotiating changes \n Considering sustainability in f
 unding applications and project planning \n Sustainability and green touri
 ng for bookers and organisations \n And some points for thought around mus
 ic and the climate crisis \n \n\n Attendance is free\, but registration is
  necessary. \n\n What to Expect: Whether you have an established career or
  are just starting your journey\, our Cooler Clinics are designed to addre
 ss your concerns and propel your career forward. There will be time in the
  group discussion and in 1:1s for your questions. \n
LAST-MODIFIED:20250610T095911
LOCATION:Online
ORGANIZER:mailto:admin@improvisedmusic.ie
SUMMARY:Cooler Clinics October Sustainable Touring
URL;VALUE=URI:https://ti.to/improvised-music-company/cooler-clinic-oct-sust
 ainable-touring
URL;VALUE=URI:https://ti.to/improvised-music-company/cooler-clinic-oct-sust
 ainable-touring
END:VEVENT
BEGIN:VEVENT
DTSTAMP:20260421T130439Z
UID:jR1utw1075156
DTSTART:20241007T130000
DTEND:20241007T140000
CLASS:PUBLIC
CREATED:20240917T155534
LAST-MODIFIED:20241007T083255
ORGANIZER:mailto:admin@improvisedmusic.ie
SUMMARY:[Cooler Clinics October Sustainable Touring] Sustainable touring di
 scussion
URL;VALUE=URI:https://ti.to/improvised-music-company/cooler-clinic-oct-sust
 ainable-touring
URL;VALUE=URI:https://ti.to/improvised-music-company/cooler-clinic-oct-sust
 ainable-touring
END:VEVENT
END:VCALENDAR
