BEGIN:VCALENDAR
VERSION:2.0
PRODID:icalendar-ruby
CALSCALE:GREGORIAN
BEGIN:VEVENT
DTSTAMP:20260421T144807Z
UID:8bXmcA
DTSTART:20240802T130000
DTEND:20240802T140000
CLASS:PUBLIC
CREATED:20240719T140949
DESCRIPTION: Date: Friday 2nd August\nTime: Discussion at 1pm. Limited 1:1 
 consultation slots with New Music Dublin and Bray Jazz available\nLocation
 : Online via Zoom \n\n Each month\, Improvised Music Company hosts Cooler 
 Clinic CPD events at The Cooler at The Complex or Online. \n\n In August\,
  we’re hosting an online discussion about pitching with New Music Dublin
  and Bray Jazz Festival\, giving you the inside scoop on their programming
  processes\, how and when they accept pitches and submissions\, and much m
 ore. \n\n Following on from our hugely successful 1:1 pitching sessions be
 tween artists and international programmers in January\, we now have 1:1 p
 itching and feedback slots available with Bray Jazz Festival and New Music
  Dublin. These sessions will take place after the lunchtime group discussi
 on. Participants will be selected based on suitability via a brief EOI for
 m due by 10am on Weds 24th July.  \n\n Pitching sessions will be subject t
 o demand. Selected artists will be offered pitching advice in advance of A
 ugust 2nd. We recommend researching the festivals and their programming to
  see who your music might appeal to most. \n\n Attendance is free\, but re
 gistration is necessary for the group discussion. EOI is essential here fo
 r 1:1 pitching and feedback sessions with Bray Jazz Festival and New Music
  Dublin. \n
LAST-MODIFIED:20250610T095911
LOCATION:Online
ORGANIZER:mailto:admin@improvisedmusic.ie
SUMMARY:Cooler Clinics July: Pitching to Festivals\, with New Music Dublin 
 & Bray Jazz
URL;VALUE=URI:https://ti.to/improvised-music-company/cooler-clinic-july-pit
 ching-to-festivals
URL;VALUE=URI:https://ti.to/improvised-music-company/cooler-clinic-july-pit
 ching-to-festivals
END:VEVENT
END:VCALENDAR
