BEGIN:VCALENDAR
VERSION:2.0
PRODID:icalendar-ruby
CALSCALE:GREGORIAN
BEGIN:VEVENT
DTSTAMP:20260421T144342Z
UID:uNlgdQ
DTSTART:20240709T183000
DTEND:20240709T213000
CLASS:PUBLIC
CREATED:20240625T150857
DESCRIPTION: Date: Tuesday 9th April 2024 \n\n Time: Group discussion 6:30p
 m\, limited 1:1 consultation slots available from 7:30pm-9:30pm \n\n Locat
 ion: The Cooler at The Complex\, 12 Mary's Abbey\, Dublin 7. \n\n Each mon
 th\, Improvised Music Company hosts a Cooler Clinic in our new rehearsal a
 nd development space for improvised music - The Cooler at The Complex. \n\
 n Drop in to The Cooler any time to talk to the IMC team about anything th
 at’s been concerning you in your career\, one-to-one or in a small group
 \, in short 20/30 minute slots. \n\n In July\, with the deadline for the A
 rts Council’s Music Project award coming up\, we’re focusing on fundin
 g applications\, with a talk around things to remember for your applicatio
 ns\, and plenty of time to get feedback on and discuss any applications yo
 u’re working on. \n\n However\, one-to-one conversations can be on any t
 opic that’s concerning you at the minute\, so feel free to drop in with 
 questions in any area that you think we might be able to help on. Topics c
 ould be e.g. social media\, newsletter marketing\, releasing music\, domes
 tic and international touring\, or many other things that can be challengi
 ng for a lot of musicians to navigate. \n\n The Cooler Clinic is also an o
 pen place to chat with fellow musicians in the genre over tea and coffee a
 nd share knowledge that might be helpful to everyone.  \n\n Register in fo
 r what time of day you’d like to attend and drop in with your questions.
   \n\n You can use the one-to-one time to talk to the IMC team about any c
 oncerns you have around funding opportunities you’d like to apply for\, 
 such as to:  \n\n \n Get another pair of eyes on any funding application f
 or any mistakes or areas of possible misunderstanding.  \n Get external pe
 rspective on the goals of any draft or prospective application for upcomin
 g grants in relation to the award’s guidelines. \n Bring along any draft
  budgets to discuss the budgeting process and any questions you have\, or 
 work with us to create a budget structure you can use. \n If you don’t h
 ave a current opportunity in mind but you’re aiming to become more comfo
 rtable with the funding process overall\, feel free to bring along a previ
 ous application\, a previous draft\, or even a starting idea to discuss wi
 th us. \n Get feedback on or ideas for useful supporting documentation. \n
  \n\n IMC is not a funding body\, but having been a part of many applicati
 ons over the years\, we can offer advice based on our experience\, and a f
 resh pair of eyes over text\, budgets\, or supporting documentation. \n\n 
 Attendance is free\, but registration is necessary. Please book in below f
 or the discussion and/or 1:1 consultations. \n\n We love meeting you and h
 earing all about your exciting projects! \n\n What to Expect:\nWhether you
  have an established career or are just starting your journey\, our Cooler
  Clinics are here to address your concerns and propel your career forward.
  Come with any question or discussion topic you like\, whether digging int
 o details of a funding application or bouncing ideas for a new project. \n
LAST-MODIFIED:20250610T095911
LOCATION:The Cooler at The Complex
ORGANIZER:mailto:admin@improvisedmusic.ie
SUMMARY:Cooler Clinics July: Getting Funding for Projects
URL;VALUE=URI:https://ti.to/improvised-music-company/cooler-clinic-july-fun
 ding-for-projects
URL;VALUE=URI:https://ti.to/improvised-music-company/cooler-clinic-july-fun
 ding-for-projects
END:VEVENT
BEGIN:VEVENT
DTSTAMP:20260421T144342Z
UID:uNlgdQ1072619
DTSTART:20240609T183000
DTEND:20240609T193000
CLASS:PUBLIC
CREATED:20240625T150859
LAST-MODIFIED:20240708T132715
LOCATION:The Cooler\, 12 Mary's Abbey\, Smithfield\, Dublin 7\, D07 XR70\, 
 Ireland
ORGANIZER:mailto:admin@improvisedmusic.ie
SUMMARY:[Cooler Clinics July: Getting Funding for Projects] Group discussio
 n - Funding for Projects
URL;VALUE=URI:https://ti.to/improvised-music-company/cooler-clinic-july-fun
 ding-for-projects
URL;VALUE=URI:https://ti.to/improvised-music-company/cooler-clinic-july-fun
 ding-for-projects
END:VEVENT
BEGIN:VEVENT
DTSTAMP:20260421T144342Z
UID:uNlgdQ1072618
DTSTART:20240709T193000
DTEND:20240709T200000
CLASS:PUBLIC
CREATED:20240625T150859
DESCRIPTION:1:1 Consultation
LAST-MODIFIED:20240629T195232
LOCATION:The Cooler\, 12 Mary's Abbey\, Smithfield\, Dublin 7\, D07 XR70\, 
 Ireland
ORGANIZER:mailto:admin@improvisedmusic.ie
SUMMARY:[Cooler Clinics July: Getting Funding for Projects] Consultation 7:
 30pm-8pm
URL;VALUE=URI:https://ti.to/improvised-music-company/cooler-clinic-july-fun
 ding-for-projects
X-ALT-DESC;FMTTYPE=text/html:1:1 Consultation
URL;VALUE=URI:https://ti.to/improvised-music-company/cooler-clinic-july-fun
 ding-for-projects
END:VEVENT
BEGIN:VEVENT
DTSTAMP:20260421T144342Z
UID:uNlgdQ1072624
DTSTART:20240709T200000
DTEND:20240709T203000
CLASS:PUBLIC
CREATED:20240625T153142
DESCRIPTION:1:1 Consultation
LAST-MODIFIED:20240708T132822
LOCATION:The Cooler\, 12 Mary's Abbey\, Smithfield\, Dublin 7\, D07 XR70\, 
 Ireland
ORGANIZER:mailto:admin@improvisedmusic.ie
SUMMARY:[Cooler Clinics July: Getting Funding for Projects] Consultation 8:
 00pm-8:30pm
URL;VALUE=URI:https://ti.to/improvised-music-company/cooler-clinic-july-fun
 ding-for-projects
X-ALT-DESC;FMTTYPE=text/html:1:1 Consultation
URL;VALUE=URI:https://ti.to/improvised-music-company/cooler-clinic-july-fun
 ding-for-projects
END:VEVENT
BEGIN:VEVENT
DTSTAMP:20260421T144342Z
UID:uNlgdQ1072625
DTSTART:20240709T203000
DTEND:20240709T210000
CLASS:PUBLIC
CREATED:20240625T153215
DESCRIPTION:1:1 Consultation
LAST-MODIFIED:20240627T102850
LOCATION:The Cooler\, 12 Mary's Abbey\, Smithfield\, Dublin 7\, D07 XR70\, 
 Ireland
ORGANIZER:mailto:admin@improvisedmusic.ie
SUMMARY:[Cooler Clinics July: Getting Funding for Projects] Consultation 8:
 30pm-9:00pm
URL;VALUE=URI:https://ti.to/improvised-music-company/cooler-clinic-july-fun
 ding-for-projects
X-ALT-DESC;FMTTYPE=text/html:1:1 Consultation
URL;VALUE=URI:https://ti.to/improvised-music-company/cooler-clinic-july-fun
 ding-for-projects
END:VEVENT
BEGIN:VEVENT
DTSTAMP:20260421T144342Z
UID:uNlgdQ1072626
DTSTART:20240709T210000
DTEND:20240709T213000
CLASS:PUBLIC
CREATED:20240625T153240
DESCRIPTION:1:1 Consultation
LAST-MODIFIED:20240731T170708
LOCATION:The Cooler\, 12 Mary's Abbey\, Smithfield\, Dublin 7\, D07 XR70\, 
 Ireland
ORGANIZER:mailto:admin@improvisedmusic.ie
SUMMARY:[Cooler Clinics July: Getting Funding for Projects] Consultation 9:
 00pm-9:30pm
URL;VALUE=URI:https://ti.to/improvised-music-company/cooler-clinic-july-fun
 ding-for-projects
X-ALT-DESC;FMTTYPE=text/html:1:1 Consultation
URL;VALUE=URI:https://ti.to/improvised-music-company/cooler-clinic-july-fun
 ding-for-projects
END:VEVENT
END:VCALENDAR
