BEGIN:VCALENDAR
VERSION:2.0
PRODID:icalendar-ruby
CALSCALE:GREGORIAN
BEGIN:VEVENT
DTSTAMP:20260424T075831Z
UID:IqYdPQ
DTSTART:20250217T110000
DTEND:20250217T140000
CLASS:PUBLIC
CREATED:20250205T112208
DESCRIPTION: Date: Monday 17th February \n\n Time: Discussion at 11am\, lim
 ited 1:1 consultation slots available from 12:00pm-2:00pm \n\n Location: O
 nline via Zoom \n\n Each month\, Improvised Music Company hosts Cooler Cli
 nic CPD events at The Cooler at The Complex or Online. \n\n In February\, 
 we’re hosting an online discussion exploring how AI tools like ChatGPT c
 an help (and hinder!) your funding applications. While AI can assist in st
 ructuring ideas\, refining writing\, and making the application process sm
 oother\, there are also pitfalls to watch out for—including generic or n
 on-specific language\, misalignment with funding criteria\, and ethical co
 ncerns. This session will cover:\n \n* How to use AI effectively in writin
 g grant applications \n\n  \n\n \n Prompting strategies to get the best re
 sults from ChatGPT \n \n\n  \n\n \n Common mistakes AI can introduce and h
 ow to avoid them \n \n\n  \n\n \n The environmental impact of AI\, includi
 ng energy use and water consumption \n \n\n  \nWe'll have a short talk on 
 best practices\, followed by plenty of time for feedback on applications y
 ou’re working on - these may include the Arts Council Music Bursary and 
 Agility Awards\, Local Council Awards\, and Commission and Residency pitch
 es such as for the Music Current Commission and for the Dun-Laoghaire Rath
 downe Residency. \n\n You can also use the one-to-one time to talk to the 
 IMC team about any concerns you have around funding opportunities you’d 
 like to apply for\, such as:\n \n* Getting another pair of eyes on an appl
 ication for any mistakes or areas of possible misunderstanding. \n\n  \n\n
  \n Gaining external perspective on the goals of your draft application in
  relation to the award’s guidelines. \n \n\n  \n\n \n Discussing draft b
 udgets\, the budgeting process\, and any questions you have\, or working w
 ith us to create a budget structure you can use. \n \n\n  \n\n \n Getting 
 feedback on or ideas for supporting documentation. \n \n\n  \n\n \n If you
  don’t have a specific opportunity in mind but want to become more comfo
 rtable with the funding process\, feel free to bring a previous applicatio
 n\, a previous draft\, or even just a starting idea. \n \n\n  \nIMC is not
  a funding body\, but having been a part of many applications over the yea
 rs\, we can offer advice based on our experience and provide a fresh pair 
 of eyes over text\, budgets\, or supporting documentation. \n\n As always\
 , one-to-one conversations can cover any career concerns—from social med
 ia to releasing music\, booking gigs\, and more.  \n\n Attendance is free\
 , but registration is required. Sign up to reserve your spot! \n
LAST-MODIFIED:20250610T095911
LOCATION:Online
ORGANIZER:mailto:admin@improvisedmusic.ie
SUMMARY:Cooler Clinics Online Feb: AI & Funding Applications
URL;VALUE=URI:https://ti.to/improvised-music-company/cooler-clinic-feb-onli
 ne-ai-and-funding-applications
URL;VALUE=URI:https://ti.to/improvised-music-company/cooler-clinic-feb-onli
 ne-ai-and-funding-applications
END:VEVENT
BEGIN:VEVENT
DTSTAMP:20260424T075831Z
UID:IqYdPQ1082203
DTSTART:20250217T120000
DTEND:20250217T123000
CLASS:PUBLIC
CREATED:20250205T112210
DESCRIPTION:1:1 Consultation
LAST-MODIFIED:20250208T104205
LOCATION:IMC Online\, Online via Zoom
ORGANIZER:mailto:admin@improvisedmusic.ie
SUMMARY:[Cooler Clinics Online Feb: AI & Funding Applications] Consultation
  12:00pm-12:30pm
URL;VALUE=URI:https://ti.to/improvised-music-company/cooler-clinic-feb-onli
 ne-ai-and-funding-applications
X-ALT-DESC;FMTTYPE=text/html:1:1 Consultation
URL;VALUE=URI:https://ti.to/improvised-music-company/cooler-clinic-feb-onli
 ne-ai-and-funding-applications
END:VEVENT
BEGIN:VEVENT
DTSTAMP:20260424T075831Z
UID:IqYdPQ1082199
DTSTART:20250217T123000
DTEND:20250217T130000
CLASS:PUBLIC
CREATED:20250205T112210
DESCRIPTION:1:1 Consultation
LAST-MODIFIED:20250208T194354
LOCATION:IMC Online\, Online via Zoom
ORGANIZER:mailto:admin@improvisedmusic.ie
SUMMARY:[Cooler Clinics Online Feb: AI & Funding Applications] Consultation
  12:30pm-1pm
URL;VALUE=URI:https://ti.to/improvised-music-company/cooler-clinic-feb-onli
 ne-ai-and-funding-applications
X-ALT-DESC;FMTTYPE=text/html:1:1 Consultation
URL;VALUE=URI:https://ti.to/improvised-music-company/cooler-clinic-feb-onli
 ne-ai-and-funding-applications
END:VEVENT
BEGIN:VEVENT
DTSTAMP:20260424T075831Z
UID:IqYdPQ1082201
DTSTART:20250217T130000
DTEND:20250217T133000
CLASS:PUBLIC
CREATED:20250205T112210
DESCRIPTION:1:1 Consultation
LAST-MODIFIED:20250217T094801
LOCATION:IMC Online\, Online via Zoom
ORGANIZER:mailto:admin@improvisedmusic.ie
SUMMARY:[Cooler Clinics Online Feb: AI & Funding Applications] Consultation
  1:00pm-1:30pm
URL;VALUE=URI:https://ti.to/improvised-music-company/cooler-clinic-feb-onli
 ne-ai-and-funding-applications
X-ALT-DESC;FMTTYPE=text/html:1:1 Consultation
URL;VALUE=URI:https://ti.to/improvised-music-company/cooler-clinic-feb-onli
 ne-ai-and-funding-applications
END:VEVENT
BEGIN:VEVENT
DTSTAMP:20260424T075831Z
UID:IqYdPQ1082202
DTSTART:20250217T133000
DTEND:20250217T140000
CLASS:PUBLIC
CREATED:20250205T112210
DESCRIPTION:1:1 Consultation
LAST-MODIFIED:20250205T133359
LOCATION:IMC Online\, Online via Zoom
ORGANIZER:mailto:admin@improvisedmusic.ie
SUMMARY:[Cooler Clinics Online Feb: AI & Funding Applications] Consultation
  1:30pm-2:00pm
URL;VALUE=URI:https://ti.to/improvised-music-company/cooler-clinic-feb-onli
 ne-ai-and-funding-applications
X-ALT-DESC;FMTTYPE=text/html:1:1 Consultation
URL;VALUE=URI:https://ti.to/improvised-music-company/cooler-clinic-feb-onli
 ne-ai-and-funding-applications
END:VEVENT
END:VCALENDAR
