BEGIN:VCALENDAR
VERSION:2.0
PRODID:icalendar-ruby
CALSCALE:GREGORIAN
BEGIN:VEVENT
DTSTAMP:20260420T084239Z
UID:c8rNrA
DTSTART:20241208T150000
DTEND:20241208T180000
CLASS:PUBLIC
CREATED:20241201T203805
DESCRIPTION: In aid of Dublin Simon Community\, Ireland's jazzers have cont
 ributed a range of fantastic prizes for a Christmas raffle. \n\n To suppor
 t those experiencing or at risk of homelessness this Christmas\, you can p
 ick up a ticket and be in with a chance to win one of a collection of priz
 es geared towards music-lovers. Each prizes includes a collection of music
  and music-adjacent goodies to enjoy over your Christmas or later on\, fro
 m concert tickets\, to favourite records on vinyl\, to some music lessons 
 to start off your New Year's resolutions\, and maybe a bottle or two of so
 mething to enjoy while you listen. \n\n Hamper items will include (example
 s): \n\n \n Concert tickets for Lulu's Jazz Club\, Improvised Music Compan
 y or Dublin Jazz Co-op \n Digitally remastered releases of classic Irish j
 azz from Livia Records \n CDs of groundbreaking new music from Diatribe Re
 cords\, Touch Sensitive Records and more \n Vinyl from artists including F
 rancesco Turrisi\, ZASKA\, Danny G\, Zrazy\, Patrick Stefan and more. \n H
 andmade art/jewellery from Oceanna\, and Boho Soul \n T-shirts from artist
 s including Zrazy\, ZASKA\, and Patrick Stefan \n Vocal workshop/lesson \n
  Wine/drinks \n \n\n  \nArtists/organisations who have contributed prizes 
 include: \n\n \n Livia Records \n Patrick Stefan \n ZASKA \n Newpark Acade
 my of Music \n Oceanna \n Diatribe Records \n Zrazy \n Dublin Jazz Co-op \
 n Francesco Turrisi \n Danny Groenland \n Irish Women in Jazz \n Lulu's Ja
 zz Club \n Touch Sensitive Records \n and even more on the day! \n \n
LAST-MODIFIED:20250610T095911
LOCATION:The Cooler at The Complex\, Mary's Abbey\, Dublin 7.
ORGANIZER:mailto:admin@improvisedmusic.ie
SUMMARY:Cooler Christmas Raffle 2024 in aid of Dublin Simon Community
URL;VALUE=URI:https://ti.to/improvised-music-company/cooler-christmas-raffl
 e-2024
URL;VALUE=URI:https://ti.to/improvised-music-company/cooler-christmas-raffl
 e-2024
END:VEVENT
END:VCALENDAR
