BEGIN:VCALENDAR
VERSION:2.0
PRODID:icalendar-ruby
CALSCALE:GREGORIAN
BEGIN:VTIMEZONE
TZID:Europe/Dublin
BEGIN:DAYLIGHT
DTSTART:20251026T010000
TZOFFSETFROM:+0100
TZOFFSETTO:+0000
RRULE:FREQ=YEARLY;BYDAY=-1SU;BYMONTH=10
TZNAME:GMT
END:DAYLIGHT
BEGIN:STANDARD
DTSTART:20250330T020000
TZOFFSETFROM:+0000
TZOFFSETTO:+0100
RRULE:FREQ=YEARLY;BYDAY=-1SU;BYMONTH=3
TZNAME:IST
END:STANDARD
END:VTIMEZONE
BEGIN:VEVENT
DTSTAMP:20260424T010516Z
UID:t1fbTA
DTSTART;TZID=Europe/Dublin:20251009T200000
DTEND;TZID=Europe/Dublin:20251009T220000
CLASS:PUBLIC
CREATED:20250903T154557
DESCRIPTION: Doors 7:30pm/Music 8:00pm \n\n “One of the most arresting pi
 ano trios in Ireland or the UK today…...Nelson is\, without question\, a
 s the refined language of her writing and playing constantly reiterates\, 
 a singular voice.” - All About Jazz \n\n The Carole Nelson Trio's launch
  of their new album Through the Storm\, released on Livia Records. \n\n Wi
 th Carole on piano\, Cormac O’Brien on bass and Dominic Mullan on drums\
 , the trio continues their ever-strengthening bond\, spanning 10 years of 
 performance and three previous albums. \n\n London-born and living in Irel
 and since 1986\, pianist and saxophonist Carole Nelson is in her fifth dec
 ade of creative music-making. She currently lives between the River Barrow
  and the Blackstairs Mountains - a landscape which inspires her music. \n\
 n Through the Storm continues the ecological themes of Carole’s previous
  work. The music paints an emotive picture of nature’s resilience and fr
 agility through the stories of two bird species- the swallow’s migratory
  journey and the now-extinct kauai’ o’o\, continuing Carole’s engage
 ment and concern for the natural world and our place in it. This is elegan
 t\, lyrical music\, both timeless and of the moment. \n
LAST-MODIFIED:20250903T155716
LOCATION:The Cooler at The Complex\, Mary's Abbey\, Dublin 7.
ORGANIZER:mailto:admin@improvisedmusic.ie
SUMMARY:Carole Nelson Trio - Through the Storm album launch
URL;VALUE=URI:https://ti.to/improvised-music-company/carole-nelson-trio-alb
 um-launch-cooler-oct25
URL;VALUE=URI:https://ti.to/improvised-music-company/carole-nelson-trio-alb
 um-launch-cooler-oct25
END:VEVENT
END:VCALENDAR
