BEGIN:VCALENDAR
VERSION:2.0
PRODID:icalendar-ruby
CALSCALE:GREGORIAN
BEGIN:VTIMEZONE
TZID:Europe/Stockholm
BEGIN:DAYLIGHT
DTSTART:20260329T030000
TZOFFSETFROM:+0100
TZOFFSETTO:+0200
RRULE:FREQ=YEARLY;BYDAY=-1SU;BYMONTH=3
TZNAME:CEST
END:DAYLIGHT
BEGIN:STANDARD
DTSTART:20261025T020000
TZOFFSETFROM:+0200
TZOFFSETTO:+0100
RRULE:FREQ=YEARLY;BYDAY=-1SU;BYMONTH=10
TZNAME:CET
END:STANDARD
END:VTIMEZONE
BEGIN:VEVENT
DTSTAMP:20260420T155405Z
UID:hIIoOg
DTSTART;TZID=Europe/Stockholm:20260428T090000
DTEND;TZID=Europe/Stockholm:20260428T170000
CLASS:PUBLIC
CREATED:20251030T123724
LAST-MODIFIED:20251219T094526
LOCATION:Stockholm\,Sweden
ORGANIZER:mailto:info@impactic.de
SUMMARY:HR of Tomorrow Conference Nordics (Stockholm\, 28 April 2026)
URL;VALUE=URI:https://ti.to/impactic-gmbh/hrotnordics28april2026
URL;VALUE=URI:https://ti.to/impactic-gmbh/hrotnordics28april2026
END:VEVENT
END:VCALENDAR
