BEGIN:VCALENDAR
VERSION:2.0
PRODID:icalendar-ruby
CALSCALE:GREGORIAN
BEGIN:VTIMEZONE
TZID:Europe/Berlin
BEGIN:DAYLIGHT
DTSTART:20260329T030000
TZOFFSETFROM:+0100
TZOFFSETTO:+0200
RRULE:FREQ=YEARLY;BYDAY=-1SU;BYMONTH=3
TZNAME:CEST
END:DAYLIGHT
BEGIN:STANDARD
DTSTART:20261025T020000
TZOFFSETFROM:+0200
TZOFFSETTO:+0100
RRULE:FREQ=YEARLY;BYDAY=-1SU;BYMONTH=10
TZNAME:CET
END:STANDARD
END:VTIMEZONE
BEGIN:VEVENT
DTSTAMP:20260420T181927Z
UID:mNTBSw
DTSTART;TZID=Europe/Berlin:20260416T090000
DTEND;TZID=Europe/Berlin:20260416T170000
CLASS:PUBLIC
CREATED:20251028T102536
LAST-MODIFIED:20251028T103941
LOCATION:Berlin\, Germany
ORGANIZER:mailto:info@impactic.de
SUMMARY:HR of Tomorrow Conference DACH (Berlin\, 16 April 2026)
URL;VALUE=URI:https://ti.to/impactic-gmbh/hrotconferenceberlin16april2026
URL;VALUE=URI:https://ti.to/impactic-gmbh/hrotconferenceberlin16april2026
END:VEVENT
END:VCALENDAR
