BEGIN:VCALENDAR
VERSION:2.0
PRODID:icalendar-ruby
CALSCALE:GREGORIAN
BEGIN:VEVENT
DTSTAMP:20260424T172822Z
UID:OdrZwA
DTSTART;VALUE=DATE:20210923
DTEND;VALUE=DATE:20210925
CLASS:PUBLIC
CREATED:20210401T100109
DESCRIPTION: The 4th edition of the successful series of the HR of Tomorrow
  conference\, EU\nThe HR of Tomorrow L&amp\;D is a must-attend event for h
 igh-profile HR professionals within the learning and development space. In
  2021\, we expect 150+ attendees from top companies in Europe. \n
LAST-MODIFIED:20230428T112434
LOCATION:Virtual conference - You can join from anywhere
ORGANIZER:mailto:info@impactic.de
SUMMARY:HR of Tomorrow L&D\, Europe (virtual) 23-24 Sep2021
URL;VALUE=URI:https://ti.to/impactic-gmbh/hr-of-tomorrow-ld-europe-virtual-
 23-24-sep2021
URL;VALUE=URI:https://ti.to/impactic-gmbh/hr-of-tomorrow-ld-europe-virtual-
 23-24-sep2021
END:VEVENT
END:VCALENDAR
