BEGIN:VCALENDAR
VERSION:2.0
PRODID:icalendar-ruby
CALSCALE:GREGORIAN
BEGIN:VTIMEZONE
TZID:Europe/Dublin
BEGIN:DAYLIGHT
DTSTART:20251026T010000
TZOFFSETFROM:+0100
TZOFFSETTO:+0000
RRULE:FREQ=YEARLY;BYDAY=-1SU;BYMONTH=10
TZNAME:GMT
END:DAYLIGHT
BEGIN:STANDARD
DTSTART:20250330T020000
TZOFFSETFROM:+0000
TZOFFSETTO:+0100
RRULE:FREQ=YEARLY;BYDAY=-1SU;BYMONTH=3
TZNAME:IST
END:STANDARD
END:VTIMEZONE
BEGIN:VEVENT
DTSTAMP:20260423T201127Z
UID:VR5M3A
DTSTART;TZID=Europe/Dublin:20250619T090000
DTEND;TZID=Europe/Dublin:20250619T170000
CLASS:PUBLIC
CREATED:20250121T120606
LAST-MODIFIED:20250121T121216
LOCATION:Paris\, France
ORGANIZER:mailto:info@impactic.de
SUMMARY:Content Creation Conference Dublin 19 June 2025
URL;VALUE=URI:https://ti.to/impactic-gmbh/ccc-dublin2025
URL;VALUE=URI:https://ti.to/impactic-gmbh/ccc-dublin2025
END:VEVENT
END:VCALENDAR
