BEGIN:VCALENDAR
VERSION:2.0
PRODID:icalendar-ruby
CALSCALE:GREGORIAN
BEGIN:VTIMEZONE
TZID:America/Sao_Paulo
BEGIN:STANDARD
DTSTART:20190216T230000
TZOFFSETFROM:-0200
TZOFFSETTO:-0300
TZNAME:-03
END:STANDARD
END:VTIMEZONE
BEGIN:VEVENT
DTSTAMP:20260422T085745Z
UID:AYapiw
DTSTART;TZID=America/Sao_Paulo:20250818T093000
DTEND;TZID=America/Sao_Paulo:20250819T175000
CLASS:PUBLIC
CREATED:20250607T120929
DESCRIPTION: IDUG is thrilled to bring the 2025 LATAM Db2 Tech Conference b
 ack to Latin America — and this year\, we’re going big! Join us in two
  vibrant cities: São Paulo\, Brazil and Mexico City for an unforgettable 
 experience packed with innovation\, education\, and connection.\nSeats are
  limited and demand is high — secure your spot today! \n\n 📌 Note: If
  you’re registering with USD\, please reach out to brazil2025@idug.org f
 or your registration link. \n
LAST-MODIFIED:20250815T200547
LOCATION:São Paulo\, Brazil
ORGANIZER:mailto:brazil2025@idug.org
SUMMARY:IDUG 2025 LATAM Db2 Tech Conference | São Paulo
URL;VALUE=URI:https://ti.to/idug/latam-2025-saopaulo
URL;VALUE=URI:https://ti.to/idug/latam-2025-saopaulo
END:VEVENT
END:VCALENDAR
