BEGIN:VCALENDAR
VERSION:2.0
PRODID:icalendar-ruby
CALSCALE:GREGORIAN
BEGIN:VTIMEZONE
TZID:Europe/Brussels
BEGIN:DAYLIGHT
DTSTART:20210328T030000
TZOFFSETFROM:+0100
TZOFFSETTO:+0200
RRULE:FREQ=YEARLY;BYDAY=-1SU;BYMONTH=3
TZNAME:CEST
END:DAYLIGHT
BEGIN:STANDARD
DTSTART:20211031T020000
TZOFFSETFROM:+0200
TZOFFSETTO:+0100
RRULE:FREQ=YEARLY;BYDAY=-1SU;BYMONTH=10
TZNAME:CET
END:STANDARD
END:VTIMEZONE
BEGIN:VEVENT
DTSTAMP:20260422T171254Z
UID:cdAdDg
DTSTART;VALUE=DATE:20211026
DTEND;VALUE=DATE:20211029
CLASS:PUBLIC
CREATED:20210811T091359
DESCRIPTION: It’s the flagship event of ICPA\, and it’s more accessible
  than ever! Join us online for this fantastic event which will bring a wid
 e variety of presentations across a range of important correctional issues
  and challenges. Hear about the latest practices\, find information on cor
 rectional products and solutions\, connect with peers and be part of the w
 orld’s largest correctional community.\nPlease note that all sessions wi
 ll be recorded and available to conference participants with a valid ticke
 t only. \n\n HOW TO PURCHASE A TICKET: \n\n - Press the REGISTER button be
 low. \n\n - Insert your Full Name\, Company and Email Address (Email addre
 ss MUST be unique for each ticket). \n\n - Select your preferred Payment O
 ption (Credit Card or Invoice) and then insert the requested details. \n\n
  - After you insert the details you will receive a confirmation email of a
  successful transaction. \n\n - Then you are asked to complete the Attende
 e Information. \n\n - If you wish to buy multiple tickets please contact u
 s at icpa2021@icpa.org \n\n **NOTE:** Sponsors and Exhibitors should not u
 se this registration system. Please contact one of our team members at icp
 a2021@icpa.org \n\n **NOTE:** By attending this event you agree and unders
 tand that images/recordings may be taken during the event and published in
  the conference proceedings or in our on-demand content. If you have any q
 uestions or concerns regarding this please contact our team. \n\n **NOTE:*
 * Please note that translation services are NOT provided during this event
  and all presentations and materials will be in English. \n\n **NOTE: ** T
 he System accepts Visa\, MasterCard payments from customers worldwide. \n\
 n **NOTE** ICPA members are entitled to attend the Virtual Conference usin
 g a reduced fee: \n\n |  |  |\n| --- | --- |\n| Individual: Standard Ticke
 t (Non-Members) | 130 USD pp |\n| Individual: Professional Member Ticket |
  Free |\n| Individual: Full Member Ticket | 45 USD pp |\n| Agency Member: 
 Public Sector Ticket | 45 USD pp |\n| Agency Member: NGO/Academics Ticket 
 | 55 USD pp |\n| Agency Member: All other sectors | 75 USD pp |\n| Agency:
  Public Sector Ticket (Non-members) | 75 USD pp |\n| Group Ticket (min. of
  10 participants\, per person fee). Please contact us at icpa2021@icpa.org
  | 100 USD pp | \n\n **NOTE** If you want to become a member of ICPA you c
 an join us using: https://icpa.org/joining-icpa/ \n\n                     
                                                                           
                          **NOTE** \n\n If you are a member of ICPA please 
 contact icpa2021@icpa.org to confirm your membership ID and level. Once th
 is has been confirmed you will be provided with a special registration lin
 k. \n
LAST-MODIFIED:20220109T232135
LOCATION:Virtual Event
ORGANIZER:mailto:icpa2021@icpa.org
SUMMARY:ICPA Annual Conference 2021
URL;VALUE=URI:https://ti.to/icpa/icpa-annual-conference-2021
URL;VALUE=URI:https://ti.to/icpa/icpa-annual-conference-2021
END:VEVENT
END:VCALENDAR
