BEGIN:VCALENDAR
VERSION:2.0
PRODID:icalendar-ruby
CALSCALE:GREGORIAN
BEGIN:VEVENT
DTSTAMP:20260422T124159Z
UID:RdrKEg
DTSTART:20250408T100000
DTEND:20250408T163000
CLASS:PUBLIC
CREATED:20241120T112217
DESCRIPTION: FRANÇAIS (Deutsch weiter unten) \n\n L’Innovation Booster F
 uture Food Farming\, soutenu par Innosuisse\, vous invite à vous mettre e
 n réseau et à élaborer ensemble des solutions transformatrices lors d
 ’un atelier\nd’exploration ouverte. \n\n Grâce à la compréhension d
 es conflits qui existent actuellement\, les parties prenantes\, de la ferm
 e au citoyen\, de la recherche à l'application\, développent des projets
  qui contribuent à résoudre les problèmes et à changer le statu quo. \
 n\n Ensemble\, nous allons réfléchir à comment créer et préserver dav
 antage de valeur dans le secteur agroalimentaire local\, en misant sur les
  circuits courts\, tout en soutenant l’économie\, l’environnement et 
 le tissu social de la région. \n\n Un financement de projet de 39'000 CHF
  peut être obtenu après participation à l'atelier\, aux sessions d'incu
 bation et en respectant les conditions de participation. \n\n Après une v
 isite immersive de la Ferme Chautems\, nous allons : \n\n \n Identifier le
 s obstacles et les problèmes qui entravent la transformation aujourd'hui.
  \n Mieux comprendre la complexité de notre système agroalimentaire. \n 
 Identifier les défis et leurs acteurs. \n Rédiger des déclarations d'op
 portunité qui qui ouvrent la voie à un nouvel élan et à des solutions 
 fondées sur des valeurs. \n \n\n Pourquoi participer ? \n\n \n Rejoignez 
 une communauté vivante et multidisciplinaire qui redessine avec passion n
 otre paysage alimentaire. \n Obtenez une vision et une compréhension appr
 ofondies des obstacles pertinents et de leur impact profond. \n Trouvez le
 s partenaires adéquats pour un projet d'innovation et obtenez le financem
 ent. \n \n\n  \nCet événement est organisé en collaboration avec la Fer
 me Chautems\, et se tiendra en français. \n\n **Note importante : **\nEn 
 achetant ce billet\, vous acceptez d'être cité sur les réseaux sociaux 
 et sur les photos prises pendant l'événement. Veuillez nous contacter po
 ur plus d'informations ou en cas de désaccord par mail : innovation@futur
 efoodfarming.org \n\n ____________________________________________________
 _____________________ \n\n  \nDEUTSCH \n\n Der Innovation Booster Future F
 ood Farming powered by Innosuisse lädt ein\, sich zu vernetzen und gemein
 sam transformative Lösungen in einem Open Exploration Workshop zu gestalt
 en. \n\n Über das Verständnis aktueller Zielkonflikt entwickeln Stakehol
 der vom Bauernhof bis zum Bürger\, von Forschung bis Anwendung Projekte\,
  die zur Problemlösung und zur Veränderung des Status Quos beitragen. \n
 \n Gemeinsam überlegen wir\, wie mehr Wert im lokalen Agrar- und Lebensmi
 ttelsektor geschaffen und erhalten werden kann – durch kurze Lieferkette
 n\, die gleichzeitig Wirtschaft\, Umwelt und das soziale Gefüge der Regio
 n stärken. \n\n Eine Projektfinanzierung von 39'000 CHF kann nach Teilnah
 me am Workshop\, an Inkubationssitungen und unter Berücksichtigung der Te
 ilnahmebedingungen erhalten werden. \n\n Nach einer immersiven Besichtigun
 g der Ferme Chautems\, werden wir : \n\n \n Hindernisse und Probleme erken
 nen\, die der Transformation heute im Wege stehen. \n Die Komplexität uns
 eres Agrar- und Ernährungssystems besser verstehen. \n Herausforderungen 
 und deren Akteure erkennen. \n Opportunitätserklärungen verfassen\, die 
 den Weg für neue Impulse und wertebasierte Lösungen ebnen \n \n\n Warum 
 teilnehmen? \n\n \n Schliessen Sie sich einer lebendigen\, multidisziplin
 ären Gemeinschaft an\, die mit Leidenschaft unsere Lebensmittellandschaft
  neu gestaltet. \n Gewinnen Sie tiefe Einblicke und Verständnis relevante
 r Hürden und deren tiefgreifenden Auswirkungen. \n Finden Sie die passend
 e Partner für ein Innovationsprojekt und gewinnen Sie die Finanzierung un
 d Unterstützung. \n \n\n  \nDiese Veranstaltung wird in Zusammenarbeit mi
 t der Ferme Chautems gestaltet\, und findet in französischer Sprache stat
 t. \n\n **Wichtiger Hinweis: **\nMit dem Kauf dieses Tickets erklären Sie
  sich damit einverstanden\, dass Sie in den sozialen Medien und auf Fotos\
 , die während der Veranstaltung gemacht werden\, genannt werden. Bitte ko
 ntaktieren Sie uns für weitere Informationen oder im Falle von Unstimmigk
 eiten per Mail: innovation@futurefoodfarming.org \n
LAST-MODIFIED:20260316T072940
LOCATION:La Ferme Chautems
ORGANIZER:mailto:innovation@futurefoodfarming.org
SUMMARY:Atelier d'exploration ouverte Lugnorre
URL;VALUE=URI:https://ti.to/ib-future-food-farming/atelier-dexploration-ouv
 erte-lugnorre
URL;VALUE=URI:https://ti.to/ib-future-food-farming/atelier-dexploration-ouv
 erte-lugnorre
END:VEVENT
END:VCALENDAR
