BEGIN:VCALENDAR
VERSION:2.0
PRODID:icalendar-ruby
CALSCALE:GREGORIAN
BEGIN:VTIMEZONE
TZID:Europe/Zurich
BEGIN:DAYLIGHT
DTSTART:20260329T030000
TZOFFSETFROM:+0100
TZOFFSETTO:+0200
RRULE:FREQ=YEARLY;BYDAY=-1SU;BYMONTH=3
TZNAME:CEST
END:DAYLIGHT
BEGIN:STANDARD
DTSTART:20251026T020000
TZOFFSETFROM:+0200
TZOFFSETTO:+0100
RRULE:FREQ=YEARLY;BYDAY=-1SU;BYMONTH=10
TZNAME:CET
END:STANDARD
END:VTIMEZONE
BEGIN:VEVENT
DTSTAMP:20260424T132351Z
UID:jz1iXg
DTSTART;TZID=Europe/Zurich:20251121T120000
DTEND;TZID=Europe/Zurich:20251121T180000
CLASS:PUBLIC
CREATED:20250905T075848
DESCRIPTION: Die Fachtagung E-Accessibility wird seit 2024 von der Allianz\
 nDigitale Inklusion Schweiz ADIS durchgeführt. In 2025 feiert die IAAP\nD
 ACH ihr fünfjähriges Bestehen und ist als Partnerorganisation der\nADIS 
 ebenfalls auf dem Fachtag vertreten. \n\n Weitere Informationen und die An
 meldung zur Online-Teilnahme finden Sie auf der Website der ADIS. \n
LAST-MODIFIED:20251117T093430
LOCATION:Google Auditorium\, Zürich
ORGANIZER:mailto:events@iaap-dach.org
SUMMARY:Fachtagung E-Accessibility Schweiz
URL;VALUE=URI:https://ti.to/iaap-dach/schweiz2025
URL;VALUE=URI:https://ti.to/iaap-dach/schweiz2025
END:VEVENT
END:VCALENDAR
