BEGIN:VCALENDAR
VERSION:2.0
PRODID:icalendar-ruby
CALSCALE:GREGORIAN
BEGIN:VEVENT
DTSTAMP:20260423T152853Z
UID:SGVPrQ
DTSTART;VALUE=DATE:20150317
DTEND;VALUE=DATE:20150318
CLASS:PUBLIC
CREATED:20150309T204120
DESCRIPTION: Annotator JS meet-up for coding\, discussion\, and of course a
 nnotation \n
LAST-MODIFIED:20231212T102856
LOCATION:440 somerville ave somerville\, ma
ORGANIZER:mailto:bigbluehat@hypothes.is
SUMMARY:Annotator Hack Night
URL;VALUE=URI:https://ti.to/hypothesis/annotator-hack-night-2015-03-17
URL;VALUE=URI:https://ti.to/hypothesis/annotator-hack-night-2015-03-17
END:VEVENT
END:VCALENDAR
