BEGIN:VCALENDAR
VERSION:2.0
PRODID:icalendar-ruby
CALSCALE:GREGORIAN
BEGIN:VEVENT
DTSTAMP:20260420T141002Z
UID:b0dJ1w
DTSTART;VALUE=DATE:20231105
DTEND;VALUE=DATE:20231106
CLASS:PUBLIC
CREATED:20230902T183347
DESCRIPTION: 🚨SOLD OUT 🚨 \n\n We cannot wait to welcome all our ticke
 t holders tonight to the Hull Vineyard Bonfire Night! 🔥 \n\n The bonfir
 e is built\, the fireworks are set and the food vendors getting ready! \n\
 n Gates open at 4:30 PM to ticket holders. \n\n Parking is available first
  come first serve at K3 Business Park at 200 Clough Road\, HU5 1SN. \n\n U
 nfortunately\, there are no additional tickets available for this event. \
 n
LAST-MODIFIED:20250604T130054
LOCATION:Hull
ORGANIZER:mailto:hello@hullvineyard.co.uk
SUMMARY:Bonfire Night at Hull Vineyard
URL;VALUE=URI:https://ti.to/hull-vineyard/bonfire-night
URL;VALUE=URI:https://ti.to/hull-vineyard/bonfire-night
END:VEVENT
END:VCALENDAR
