BEGIN:VCALENDAR
VERSION:2.0
PRODID:icalendar-ruby
CALSCALE:GREGORIAN
BEGIN:VEVENT
DTSTAMP:20260422T122245Z
UID:ZOxNdQ
DTSTART;VALUE=DATE:20180917
DTEND;VALUE=DATE:20180919
CLASS:PUBLIC
CREATED:20180215T162358
DESCRIPTION: Alternative date/venue: KMP 1 - London - October 22nd - 23rd. 
 \n\n This 2-day Foundations Level Kanban training class (KMP I)\, certifie
 d by Lean Kanban University\, is for managers\, developers\, and anyone wa
 nting to learn the fundamentals of the Kanban Method. The class includes t
 he use of a Kanban simulation as well as exercises to design an actual Kan
 ban system. \n\n Also see follow on course KMP 2\, and the team practition
 er course\, Kanban for the Whole Team. \n\n Course Content &amp\; Objectiv
 es \n\n Participants will learn how to design a Kanban system and initiate
  change with Kanban. They will learn the basic concepts of flow\, pull\, a
 nd collaborative improvement. At the end of the training\, participants wi
 ll understand: \n\n \n How to identify and address bottlenecks \n How to w
 ork with shifting priorities \n How to deal with interrupt work and multi-
 tasking \n How to deal with important but not time-critical work \n How to
  avoid having work pile up in one place (or time) while there is a lack of
  work in another place \n How to create flow in the work\, the information
  to perform the work\, and the teams that do the work \n \n\n The content 
 of this course covers the following topics\, presented in the form of inte
 ractive exercises organized in small groups\, plus games\, classroom teach
 ing and discussion. \n\n \n Controlling Work in Progress (from push to pul
 l) \n Visualizing work (designing the card wall) \n Measuring and managing
  flow (control charts\, flow diagrams) \n Making policies explicit (classe
 s of service) \n Managing change and collaborative improvement \n \n\n Int
 ended as a primer\, this course is perfect for those pursuing their Kanban
  Management Professional (KMP) accreditation and ensures preparedness for 
 Kanban Systems Design (KMP I) and Kanban Systems Management (KMP II).  \n\
 n Participants Receive \n\n \n A physical copy of the definitive short gui
 de to the method\, Essential Kanban Condensed by David J. Anderson and Hug
 e.IO’s Andy Carmichael. \n A digital copy of the book Kanban by David J.
  Anderson. \n A digital copy of the slides and references. \n Certificate 
 of Completion of Lean Kanban University Certified Kanban Training\, digita
 l format. \n Membership in Lean Kanban University and a listing in the LKU
  Alumni Directory. \n \n\n This is the first of two steps to the KMP accre
 ditation. Order with the KMP II course\, Kanban Cadences and receive a 10%
  discount on the second course. \n
LAST-MODIFIED:20180726T103731
LOCATION:Reading\, UK
ORGANIZER:mailto:uk-ireland@huge.io
SUMMARY:Kanban Systems Design (KMP 1)
URL;VALUE=URI:https://ti.to/hugeio/ksd-uka-2018-05
URL;VALUE=URI:https://ti.to/hugeio/ksd-uka-2018-05
END:VEVENT
END:VCALENDAR
