BEGIN:VCALENDAR
VERSION:2.0
PRODID:icalendar-ruby
CALSCALE:GREGORIAN
BEGIN:VEVENT
DTSTAMP:20260419T134318Z
UID:uCxVhA
DTSTART;VALUE=DATE:20170522
DTEND;VALUE=DATE:20170523
CLASS:PUBLIC
CREATED:20170115T135802
DESCRIPTION: DevXCon: the conference about developer experience\, developer
  relations and developer community. \n
LAST-MODIFIED:20240320T150036
LOCATION:San Francisco
ORGANIZER:mailto:hello@hoopy.io
SUMMARY:DevXCon 2017
URL;VALUE=URI:https://ti.to/hoopy/devxcon-2017
URL;VALUE=URI:https://ti.to/hoopy/devxcon-2017
END:VEVENT
END:VCALENDAR
