BEGIN:VCALENDAR
VERSION:2.0
PRODID:icalendar-ruby
CALSCALE:GREGORIAN
BEGIN:VTIMEZONE
TZID:Europe/London
BEGIN:DAYLIGHT
DTSTART:20240331T020000
TZOFFSETFROM:+0000
TZOFFSETTO:+0100
RRULE:FREQ=YEARLY;BYDAY=-1SU;BYMONTH=3
TZNAME:BST
END:DAYLIGHT
BEGIN:STANDARD
DTSTART:20241027T010000
TZOFFSETFROM:+0100
TZOFFSETTO:+0000
RRULE:FREQ=YEARLY;BYDAY=-1SU;BYMONTH=10
TZNAME:GMT
END:STANDARD
END:VTIMEZONE
BEGIN:VEVENT
DTSTAMP:20260423T043952Z
UID:GdrN1Q
DTSTART;TZID=Europe/London:20240406T190000
DTEND;TZID=Europe/London:20240406T210000
CLASS:PUBLIC
CREATED:20240322T090414
DESCRIPTION: Keely Dunn is the founder of FHumpires which provides support 
 and mentorship to umpires all over the world\, whether newbies umpiring in
  their first season\, through club umpires with 20 years of experience\, t
 o international FIH umpires. \n\n On Saturday April 6th\, Keely will be at
  East Grinstead Hockey Club for a lively seminar and Q&amp\;A. If you've e
 ver heard Keely speak\, you'll know that this will definitely be a fun way
  to spend a Saturday evening. This is not your usual seminar! \n\n Topics 
 to be covered include: \n\n  \n* How can your positioning on the pitch hel
 p you get the big decisions right and ensure that you and the players all 
 enjoy a great day of hockey? \n\n  \n* When and why should you use cards? 
 Do you feel uncertain about when to move up or down with management interv
 entions\, but are worried that giving cards will cause a match to spiral o
 ut of control? \n\n  \n \nBut this evening is intended to be your evening\
 , so please let us know if you have any topics you would like to be discus
 sed. Other things will crop up during the Q&amp\;A session\, but if you ca
 n let us know in advance\, so much the better! Who is Keely Dunn? \n\n Kee
 ly is an ex-international umpire including twice going to the Junior World
  Cup and umpiring Olympic Qualifiers. She also spent six seasons umpiring 
 in England’s National League\, working her way up to the Women’s Premi
 er Panel and the Men’s B Panel as well as umpiring over 80 of British Un
 iversity league matches and the women’s BUCS final twice. \n\n Keely now
  contributes to the umpiring community through her weekly WhatUpWednesday 
 live shows on YouTube\, clinics\, umpire coaching and mentorship. She has 
 Umpire Managed two editions of the EHCO Trophy in the Netherlands and has 
 recently returned from doing the same for the National Hockey Masters in N
 ew Zealand. \n
LAST-MODIFIED:20240322T094342
LOCATION:East Grinstead Hockey Club
ORGANIZER:mailto:williammewis@yahoo.co.uk
SUMMARY:An evening with Keely Dunn
URL;VALUE=URI:https://ti.to/hockey-umpire/an-evening-with-keely-dunn
URL;VALUE=URI:https://ti.to/hockey-umpire/an-evening-with-keely-dunn
END:VEVENT
END:VCALENDAR
