BEGIN:VCALENDAR
VERSION:2.0
PRODID:icalendar-ruby
CALSCALE:GREGORIAN
BEGIN:VEVENT
DTSTAMP:20260420T084754Z
UID:hgVd2Q
DTSTART;VALUE=DATE:20160919
DTEND;VALUE=DATE:20160921
CLASS:PUBLIC
CREATED:20151102T135854
DESCRIPTION: Operability.IO 2016 \n
LAST-MODIFIED:20160918T171519
LOCATION:London
ORGANIZER:mailto:info@operability.io
SUMMARY:Operability.IO 2016
URL;VALUE=URI:https://ti.to/highops/operability-io-2016
URL;VALUE=URI:https://ti.to/highops/operability-io-2016
END:VEVENT
END:VCALENDAR
