BEGIN:VCALENDAR
VERSION:2.0
PRODID:icalendar-ruby
CALSCALE:GREGORIAN
BEGIN:VEVENT
DTSTAMP:20260423T171141Z
UID:t3VxEA
DTSTART;VALUE=DATE:20141213
DTEND;VALUE=DATE:20141215
CLASS:PUBLIC
CREATED:20141123T160909
DESCRIPTION: Ann Neary/Edward Hayden Present : Stress free Christmas Cookin
 g \n\n One session only - Saturday \n\n Miriam Lambert Puppeteer presents:
  Goldilocks and The Three Bears – ‘imagine a story come to life’ \n\
 n 3 session per day Saturday and Sunday \n\n Midwinter mystery adventure w
 ith Monica Fleming \n\n One session each day - Saturday &amp\; Sunday \n\n
  Ballaghtobin Real Christmas Trees in 4 sizes \n
LAST-MODIFIED:20141213T090314
LOCATION:Farmley\, Cuffesgrange\, Co Kilkenny
ORGANIZER:mailto:sales@highbank.ie
SUMMARY:Highbank Orchard Christmas Food and Craft Fair 2014
URL;VALUE=URI:https://ti.to/highbank-orchards/christmas-food-and-craft-fair
 -2014
URL;VALUE=URI:https://ti.to/highbank-orchards/christmas-food-and-craft-fair
 -2014
END:VEVENT
END:VCALENDAR
