BEGIN:VCALENDAR
VERSION:2.0
PRODID:icalendar-ruby
CALSCALE:GREGORIAN
BEGIN:VTIMEZONE
TZID:Europe/London
BEGIN:DAYLIGHT
DTSTART:20260329T020000
TZOFFSETFROM:+0000
TZOFFSETTO:+0100
RRULE:FREQ=YEARLY;BYDAY=-1SU;BYMONTH=3
TZNAME:BST
END:DAYLIGHT
BEGIN:STANDARD
DTSTART:20261025T010000
TZOFFSETFROM:+0100
TZOFFSETTO:+0000
RRULE:FREQ=YEARLY;BYDAY=-1SU;BYMONTH=10
TZNAME:GMT
END:STANDARD
END:VTIMEZONE
BEGIN:VEVENT
DTSTAMP:20260425T194808Z
UID:Dk0org
DTSTART;TZID=Europe/London:20260507T090000
DTEND;TZID=Europe/London:20260507T170000
CLASS:PUBLIC
CREATED:20251103T201505
DESCRIPTION: A curated conference for curious developers\, designers\, and 
 technology leaders \n\n  \n🎙️ 8 industry-focused talks \n\n 🔖 Cura
 ted single-track programme \n\n 📍 Everyman Cinema\, Leeds\, UK \n\n ☕
  Top notch indie tea &amp\; coffee \n\n 💻 Free co-working for all atten
 dees \n\n 🧃 Post-event networking with social \n\n  \nCelebrating ten y
 ears of All Day Hey! with our final conference. Help us go out with a bang
  and join on a journey through new techniques\, accessibility\, web animat
 ion\, and human connection in a world of increasingly weird and wonderful 
 AI. \n\n  \nWith talks from an international line-up: \n\n • Bramus Van 
 Damme (Google) \n\n • Léonie Watson (Tetra Logical) \n\n • Anjana Vak
 il (Developer Educator) \n\n • Fiona Safari (Tesco) \n\n • Jake Archib
 ald (Firefox) \n\n • Alistair Shepherd (Series Eight) \n\n • Cassie Ev
 ans (GSAP/Webflow) \n\n • Phil Hawksworth (Deno) \n\n  \nFull schedule i
 ncluding talks and speaker bios can be found on the conference site. \n
LAST-MODIFIED:20260421T123553
LOCATION:Leeds\, UK
ORGANIZER:mailto:support@heypresents.com
SUMMARY:All Day Hey! 2026 — The Last One
URL;VALUE=URI:https://ti.to/hey-presents/all-day-hey-2026
URL;VALUE=URI:https://ti.to/hey-presents/all-day-hey-2026
END:VEVENT
END:VCALENDAR
