BEGIN:VCALENDAR
VERSION:2.0
PRODID:icalendar-ruby
CALSCALE:GREGORIAN
BEGIN:VEVENT
DTSTAMP:20260422T170442Z
UID:dOAOrw
DTSTART;VALUE=DATE:20200302
DTEND;VALUE=DATE:20200303
CLASS:PUBLIC
CREATED:20200117T111048
DESCRIPTION: 6.30pm - 9.15pm \n\n Bank House Hotel\,\nBransford\,\nWorceste
 r\,\nWR6 5JD \n\n Following feedback from our recent engagement events and
  from the recent cohort of Next Generation GPs\, we have had requests abou
 t chairing meetings and the structure of the NHS. We are pleased to confir
 m that we have arranged a session in March which will also include dinner\
 , refreshments and networking. \n\n Agenda: \n\n \n 6.30pm Dinner &amp\; N
 etworking \n 7:00pm First Session \n 8:00pm Second Session \n 9.15pm Event
  End \n \n\n Speakers: \n\n \n Trish Haines\, Chair of the Primary Care Co
 mmissioning Committee – Chairing Meetings \n Dr Jonathan Leach\, OBE –
  Governing Body GP\, Worcestershire CCGs\,  NHS England Medical Director f
 or Armed Forces and Veterans Health\, Joint Honorary Secretary Royal Colle
 ge of General Practitioners\, General Practitioner Davenal House Surgery B
 romsgrove – Structure of the NHS  \n \n\n Please book your place by foll
 owing the link below... \n
LAST-MODIFIED:20200226T135052
LOCATION:Worcester
ORGANIZER:mailto:sowoccg.workforce@nhs.net
SUMMARY:First 5 GP Development Session
URL;VALUE=URI:https://ti.to/herefordshire-and-worcestershire-primary-care/f
 irst-5-gp-development-session
URL;VALUE=URI:https://ti.to/herefordshire-and-worcestershire-primary-care/f
 irst-5-gp-development-session
END:VEVENT
END:VCALENDAR
