BEGIN:VCALENDAR
VERSION:2.0
PRODID:icalendar-ruby
CALSCALE:GREGORIAN
BEGIN:VEVENT
DTSTAMP:20260422T102014Z
UID:FwfhJw
DTSTART;VALUE=DATE:20210211
DTEND;VALUE=DATE:20210212
CLASS:PUBLIC
CREATED:20201207T123510
DESCRIPTION: The HBAN 2021 All-Island Conference will take place on Thursda
 y\, February 11th.\nThis year we will host a virtual conference featuring 
 Irish and International speakers as well as round table discussions featur
 ing leaders in emerging sectors. \nWe are delighted to be working with the
  best in Irish Virtual Events organisation to be able to facilitate networ
 king and company exhibitions.\nThe event is Ireland’s only angel investm
 ent-focused national conference and is targeted at new angels who are look
 ing for structured and quality deal flow. The event will also be of intere
 st to those looking to invest with likeminded investors through syndicates
 .   \n
LAST-MODIFIED:20220923T111724
LOCATION:Online
ORGANIZER:mailto:emer@hban.org
SUMMARY:HBAN All-Island Conference 2021
URL;VALUE=URI:https://ti.to/hban/hban-all-island-conference-2021
URL;VALUE=URI:https://ti.to/hban/hban-all-island-conference-2021
END:VEVENT
END:VCALENDAR
