BEGIN:VCALENDAR
VERSION:2.0
PRODID:icalendar-ruby
CALSCALE:GREGORIAN
BEGIN:VEVENT
DTSTAMP:20260421T033106Z
UID:n2LUBg
DTSTART;VALUE=DATE:20180606
DTEND;VALUE=DATE:20180609
CLASS:PUBLIC
CREATED:20170519T105831
DESCRIPTION: Coastal South Carolina’s premier developer event. The confer
 ence is focused on providing practical training for the developer communit
 y and does so with language-agnostic sessions and talks across 3 main trac
 ks. \n
LAST-MODIFIED:20180609T182417
LOCATION:Charleston\, South Carolina
ORGANIZER:mailto:info@syntaxcon.com
SUMMARY:SyntaxCon 2018
URL;VALUE=URI:https://ti.to/harbormark/syntaxcon2018
URL;VALUE=URI:https://ti.to/harbormark/syntaxcon2018
END:VEVENT
END:VCALENDAR
