BEGIN:VCALENDAR
VERSION:2.0
PRODID:icalendar-ruby
CALSCALE:GREGORIAN
BEGIN:VEVENT
DTSTAMP:20260420T125510Z
UID:TzUJIg
DTSTART:20260619T180000
DTEND:20260619T220000
CLASS:PUBLIC
CREATED:20260108T185215
DESCRIPTION: A relaxed\, kid-friendly evening of Jazz with music from the 1
 9-piece Junction 4 Big Band\, The Hambledon Village Shop Choir and others\
 , accompanied by local food and drink. \n\n Event opens at 6pm and closes 
 at 10pm.  \n\n FREE ENTRY FOR UNDER 16's \n\n (Please note\, under 16's wi
 ll require a ticket for entry on the day\, these will be available for fre
 e when you purchase your tickets) \n
LAST-MODIFIED:20260120T124031
LOCATION:Hambledon Cricket Green
ORGANIZER:mailto:hamblefest@hambledonsurrey.co.uk
SUMMARY:Hambledon Midsummer Festival 2026 - Jazz On The Green
URL;VALUE=URI:https://ti.to/hambledon-festival/jazzonthegreen2026
URL;VALUE=URI:https://ti.to/hambledon-festival/jazzonthegreen2026
END:VEVENT
END:VCALENDAR
