BEGIN:VCALENDAR
VERSION:2.0
PRODID:icalendar-ruby
CALSCALE:GREGORIAN
BEGIN:VEVENT
DTSTAMP:20260420T054430Z
UID:l13l6w
DTSTART;VALUE=DATE:20200623
DTEND;VALUE=DATE:20200624
CLASS:PUBLIC
CREATED:20200130T143337
DESCRIPTION: StatsCraft is a community conference for people who take monit
 oring seriously \n
LAST-MODIFIED:20230728T124314
LOCATION:Tel-Aviv
ORGANIZER:mailto:info@statscraft.org.il
SUMMARY:StatsCraft 2020
URL;VALUE=URI:https://ti.to/hamakor/statscraft-2020
URL;VALUE=URI:https://ti.to/hamakor/statscraft-2020
END:VEVENT
END:VCALENDAR
