BEGIN:VCALENDAR
VERSION:2.0
PRODID:icalendar-ruby
CALSCALE:GREGORIAN
BEGIN:VEVENT
DTSTAMP:20260420T020213Z
UID:eqtOgA
DTSTART;VALUE=DATE:20210825
DTEND;VALUE=DATE:20210828
CLASS:PUBLIC
CREATED:20210525T125526
DESCRIPTION: Join us! \n
LAST-MODIFIED:20250722T090108
LOCATION:The Academic College of Tel Aviv-Yaffo
ORGANIZER:mailto:info@corecpp.org
SUMMARY:Core C++ <local> 2021
URL;VALUE=URI:https://ti.to/hamakor/corecpp-local-2021
URL;VALUE=URI:https://ti.to/hamakor/corecpp-local-2021
END:VEVENT
END:VCALENDAR
