BEGIN:VCALENDAR
VERSION:2.0
PRODID:icalendar-ruby
CALSCALE:GREGORIAN
BEGIN:VEVENT
DTSTAMP:20260424T142023Z
UID:V5oAqw
DTSTART;VALUE=DATE:20181109
DTEND;VALUE=DATE:20181110
CLASS:PUBLIC
CREATED:20180913T103907
DESCRIPTION: אוגוסט פינגווין הוא הכנס השנתי של 
 קהילת התוכנה החופשית ומאורגן על ידי עמות
 ת המקור ב-15 השנים האחרונות.\nהכנס הוא מקום
  לפגוש את הקהילה\, לשמוע הרצאות\, להחליף ר
 עיונות חדשים ולקיים דיונים בנושאים טכני
 ים\, משפטיים\, תיאורטיים ופרקטיים בנושאי 
 קוד פתוח בכלל ונושאים ספציפיים הקשורים ל
 ישראל או לשפה העברית.\nהכנס מהווה גם מקום 
 מפגש מרכזי עבור קהילות קוד פתוח ספציפיות
 \, בין אם כדי להציג את הפעילות השנתית או כ
 די לאפשר מפגש פנים אל פנים. רוב ההרצאות ב
 כנס הן בעברית\, ומיעוטן מועברות בשפה האנג
 לית. \n\n לינק לאתר הכנס:\nhttp://ap.hamakor.org.il/2018/ \
 n\n מחיר לרוכשים במקום: 60 ש"ח במזומן בלבד  \n
LAST-MODIFIED:20230728T124314
LOCATION:ZOA House\, Tel Aviv 
ORGANIZER:mailto:august@hamakor.org.il
SUMMARY:August Penguin 2018
URL;VALUE=URI:https://ti.to/hamakor/august-penguin-2018
URL;VALUE=URI:https://ti.to/hamakor/august-penguin-2018
END:VEVENT
END:VCALENDAR
