BEGIN:VCALENDAR
VERSION:2.0
PRODID:icalendar-ruby
CALSCALE:GREGORIAN
BEGIN:VTIMEZONE
TZID:America/New_York
BEGIN:DAYLIGHT
DTSTART:20240310T030000
TZOFFSETFROM:-0500
TZOFFSETTO:-0400
RRULE:FREQ=YEARLY;BYDAY=2SU;BYMONTH=3
TZNAME:EDT
END:DAYLIGHT
BEGIN:STANDARD
DTSTART:20231105T010000
TZOFFSETFROM:-0400
TZOFFSETTO:-0500
RRULE:FREQ=YEARLY;BYDAY=1SU;BYMONTH=11
TZNAME:EST
END:STANDARD
END:VTIMEZONE
BEGIN:VEVENT
DTSTAMP:20260420T000004Z
UID:HDlTYA
DTSTART;TZID=America/New_York:20240127T090000
DTEND;TZID=America/New_York:20240127T160000
CLASS:PUBLIC
CREATED:20231204T111953
DESCRIPTION: Unwrap Live is a one-day online workshop event where we'll foc
 us entirely on building apps for visionOS. The event is aimed at intermedi
 ate to advanced developers\, but I'll be explaining all the concepts along
  the way. \n\n We'll be focusing on three key areas of visionOS APIs: \n\n
  \n 2D apps built using SwiftUI \n 3D apps built using RealityKit and ARKi
 t \n Designing assets with Reality Composer Pro \n \n\n All sessions will 
 take place on US Eastern time\, from 9am to 4pm. They will be recorded\, a
 nd you'll be able to download the videos afterwards. \n\n Note: Tickets co
 st $100 each\, but Hacking with Swift+ subscribers get access free. If you
  aren't already a Hacking with Swift+ subscriber\, you can find out more h
 ere. \n\n I'm also offering two other ticket types: \n\n \n A diversity sp
 onsor ticket\, which is for folks who already have a ticket and want me to
  give one ticket away to someone who would otherwise not be able to attend
 . \n A ticket + diversity sponsor option\, where you can buy a ticket for 
 yourself and one for me to donate. \n \n\n Thank you for your support! \n
LAST-MODIFIED:20250108T104656
LOCATION:Online
ORGANIZER:mailto:paul@hackingwithswift.com
SUMMARY:Unwrap Live 2024
URL;VALUE=URI:https://ti.to/hacking-with-swift/unwrap-live-2024
URL;VALUE=URI:https://ti.to/hacking-with-swift/unwrap-live-2024
END:VEVENT
END:VCALENDAR
