BEGIN:VCALENDAR
VERSION:2.0
PRODID:icalendar-ruby
CALSCALE:GREGORIAN
BEGIN:VEVENT
DTSTAMP:20260421T202010Z
UID:MPJGCQ
DTSTART;VALUE=DATE:20171021
DTEND;VALUE=DATE:20171023
CLASS:PUBLIC
CREATED:20170718T160645
DESCRIPTION: Our fifth year brings together some of the world's software de
 velopment experts to help you learn\, build and share. Hackference is your
  chance to learn and play with something completely different. \n
LAST-MODIFIED:20180228T102005
LOCATION:Birmingham\, UK
ORGANIZER:mailto:mike@hackference.co.uk
SUMMARY:Hackference 2017 Hackathon
URL;VALUE=URI:https://ti.to/hackference/hackference-2017-hackathon
URL;VALUE=URI:https://ti.to/hackference/hackference-2017-hackathon
END:VEVENT
END:VCALENDAR
