BEGIN:VCALENDAR
VERSION:2.0
PRODID:icalendar-ruby
CALSCALE:GREGORIAN
BEGIN:VEVENT
DTSTAMP:20260423T083442Z
UID:FLcLEg
DTSTART;VALUE=DATE:20181025
DTEND;VALUE=DATE:20181027
CLASS:PUBLIC
CREATED:20180902T122901
DESCRIPTION: The GStreamer Conference is a conference for developers\, deci
 sion-makers\, community members\, industry partners\, students\, hobbyists
  and anyone else interested in the GStreamer multimedia framework or Open 
 Source and cross-platform multimedia.  \n\n https://gstreamer.freedesktop.
 org/conference/2018/ \n
LAST-MODIFIED:20201105T111730
LOCATION:Edinburgh\, Scotland
ORGANIZER:mailto:tim@gstreamer-foundation.org
SUMMARY:GStreamer Conference 2018
URL;VALUE=URI:https://ti.to/gstreamer/gstreamer-conference-2018
URL;VALUE=URI:https://ti.to/gstreamer/gstreamer-conference-2018
END:VEVENT
END:VCALENDAR
