BEGIN:VCALENDAR
VERSION:2.0
PRODID:icalendar-ruby
CALSCALE:GREGORIAN
BEGIN:VEVENT
DTSTAMP:20260422T090130Z
UID:4EFhtw
DTSTART;VALUE=DATE:20191031
DTEND;VALUE=DATE:20191102
CLASS:PUBLIC
CREATED:20190904T124950
DESCRIPTION: The GStreamer Conference is a conference for developers\, comm
 unity members\, decision-makers\, industry partners\, researchers\, studen
 ts and anyone else interested in the GStreamer multimedia framework or Ope
 n Source and cross-platform multimedia.  \n\n https://gstreamer.freedeskto
 p.org/conference/2019/ \n
LAST-MODIFIED:20200721T125244
LOCATION:Lyon\, France
ORGANIZER:mailto:tickets@gstreamer-foundation.org
SUMMARY:GStreamer Conference 2019
URL;VALUE=URI:https://ti.to/gstreamer-conference-tickets/gstreamer-conferen
 ce-2019
URL;VALUE=URI:https://ti.to/gstreamer-conference-tickets/gstreamer-conferen
 ce-2019
END:VEVENT
END:VCALENDAR
