BEGIN:VCALENDAR
VERSION:2.0
PRODID:icalendar-ruby
CALSCALE:GREGORIAN
BEGIN:VTIMEZONE
TZID:Europe/Rome
BEGIN:DAYLIGHT
DTSTART:20240331T030000
TZOFFSETFROM:+0100
TZOFFSETTO:+0200
RRULE:FREQ=YEARLY;BYDAY=-1SU;BYMONTH=3
TZNAME:CEST
END:DAYLIGHT
BEGIN:STANDARD
DTSTART:20231029T020000
TZOFFSETFROM:+0200
TZOFFSETTO:+0100
RRULE:FREQ=YEARLY;BYDAY=-1SU;BYMONTH=10
TZNAME:CET
END:STANDARD
END:VTIMEZONE
BEGIN:VEVENT
DTSTAMP:20260422T141145Z
UID:AJD6Xg
DTSTART;VALUE=DATE:20231109
DTEND;VALUE=DATE:20231110
CLASS:PUBLIC
CREATED:20230627T173418
DESCRIPTION: laravelday è la principale conferenza italiana dedicata esclu
 sivamente a Laravel \n\n \n\n QUANDO\, DOVE E COME \n\n La conferenza si s
 volge Giovedì 9 Novembre 2023.\nIl programma è pubblicato sul sito larav
 elday.it \n\n La conferenza è ibrida: si svolge in presenza a Verona ed 
 è anche possibile partecipare da remoto. \n\n \n\n VUEDAY\, il giorno dop
 o \n\n Il giorno dopo laravelday\, Venerdì 10 Novembre 2023\, nella stess
 a venue\, si terrà la conferenza dedicata a Vue. Se ti interessa partecip
 are anche a questa conferenza\, rispondi alla mail di conferma d'ordine ri
 chiedendo il codice sconto del 20% riservato a chi partecipa a laravelday.
  \n
LAST-MODIFIED:20260415T162821
LOCATION:Hotel San Marco\, Verona
ORGANIZER:mailto:laravelday@grusp.org
SUMMARY:laravelday 2023
URL;VALUE=URI:https://ti.to/grusp/laravelday-2023
URL;VALUE=URI:https://ti.to/grusp/laravelday-2023
END:VEVENT
END:VCALENDAR
