BEGIN:VCALENDAR
VERSION:2.0
PRODID:icalendar-ruby
CALSCALE:GREGORIAN
BEGIN:VEVENT
DTSTAMP:20260422T114920Z
UID:klscKQ
DTSTART;VALUE=DATE:20170917
DTEND;VALUE=DATE:20170918
CLASS:PUBLIC
CREATED:20170721T003253
DESCRIPTION: Doors open at 7:30 PM. Show starts at 8:00 PM. \n
LAST-MODIFIED:20170918T142448
LOCATION:Peterborough\, ON
ORGANIZER:mailto:dan@grownupsreadthingstheywroteaskids.com
SUMMARY:Grownups Read Things They Wrote as Kids Peterborough
URL;VALUE=URI:https://ti.to/grttwak/peterborough-2017-september
URL;VALUE=URI:https://ti.to/grttwak/peterborough-2017-september
END:VEVENT
END:VCALENDAR
