BEGIN:VCALENDAR
VERSION:2.0
PRODID:icalendar-ruby
CALSCALE:GREGORIAN
BEGIN:VEVENT
DTSTAMP:20260420T114847Z
UID:fpYhsw
DTSTART;VALUE=DATE:20170226
DTEND;VALUE=DATE:20170227
CLASS:PUBLIC
CREATED:20170202T001614
LAST-MODIFIED:20170225T212907
LOCATION:Montreal
ORGANIZER:mailto:dan@grownupsreadthingstheywroteaskids.com
SUMMARY:Grownups Read Things They Wrote as Kids Montréal
URL;VALUE=URI:https://ti.to/grttwak/montreal-2017-january
URL;VALUE=URI:https://ti.to/grttwak/montreal-2017-january
END:VEVENT
END:VCALENDAR
