BEGIN:VCALENDAR
VERSION:2.0
PRODID:icalendar-ruby
CALSCALE:GREGORIAN
BEGIN:VEVENT
DTSTAMP:20260425T173511Z
UID:9Sk4AQ
DTSTART;VALUE=DATE:20210822
DTEND;VALUE=DATE:20210823
CLASS:PUBLIC
CREATED:20210625T132944
DESCRIPTION: Wild Medicine Workshop with Herbalist Jessie Martelhof \n\n Jo
 in Jessie on a gentle ramble around the hedgerows and learn about the medi
 cinal properties of some of our native late summer plants such as Elderber
 ries\, Hawthorn berries and Nettle seeds. You will learn how you can safel
 y identify and harvest these plants sustainably and you will get to make y
 our own herbal remedy to take home. \n\n Jessie is a qualified Medical Her
 balist with a passion for native wild plant medicines that are available t
 o everyone for free! She has a degree in Herbal medicine\, she co-runs the
  Brighton Apothecary and offers health consultations in Fiveways.  \n\n We
 bsite: www.gentle-medicine.co.uk \n\n Sunday 22nd August\n2-4.30pm Saddles
 combe Farm \n\n All profits raised from this workshop will help support th
 e work of Grow - for more info see our website www.growingwellbeing.org.uk
  \n
LAST-MODIFIED:20210819T145904
LOCATION:Saddlescombe Farm\, near Devil's Dyke
ORGANIZER:mailto:jo@growingwellbeing.org.uk
SUMMARY:Wild Medicine Walk
URL;VALUE=URI:https://ti.to/grow-events/wild-medicine-walk
URL;VALUE=URI:https://ti.to/grow-events/wild-medicine-walk
END:VEVENT
END:VCALENDAR
