BEGIN:VCALENDAR
VERSION:2.0
PRODID:icalendar-ruby
CALSCALE:GREGORIAN
BEGIN:VEVENT
DTSTAMP:20260423T215645Z
UID:zQpLWw
DTSTART;VALUE=DATE:20160423
DTEND;VALUE=DATE:20160425
CLASS:PUBLIC
CREATED:20160331T105339
DESCRIPTION: The Prize: \n\n 5 teams selected from the Global hackathon (ac
 ross all locations) will be invited to a NASA rocket launch!\n[youtube:7pU
 Aydjne5M] \n\n Register at the bottom of this page! \n\n Represent Ireland
 : \n\n For a full weekend across the Globe\, thousands of problem solvers 
 collaborate together for NASA’s International Space Apps Challenge\, one
  of the largest hackathons on the Planet! Empowered by open data\, join us
  to collaborate with new and old friends and colleagues to solve big chall
 enges -- from virtual reality\, to 3D printing\, fashion\, gaming and data
  science. \n\n Event schedule: \n\n Saturday 23rd April: 9am kickoff to la
 te! Introduction to challenges\, team formation + solution development by 
 teams \n\n Sunday 24th April: 9am to 9pm\; Solution Development and Final 
 Pitches  \n\n The Challenges: \n\n Choose from 25 different challenges\, i
 ncluding those related to virtual reality\, gaming\, education\, fashion\,
  hardware and data science! NASA will be releasing data to each challenge 
 page shortly. NASA designs the challenges based on actual mission director
 ates\, and there are also collaborators from ESA (the European Space Agenc
 y) on a few challenges as well!\nhttps://2016.spaceappschallenge.org/chall
 enges \n
LAST-MODIFIED:20160422T075347
LOCATION:The Royal Marine Hotel\, Dun Laoghaire
ORGANIZER:mailto:team@bailylabs.com
SUMMARY:Space Apps Dublin 2016
URL;VALUE=URI:https://ti.to/gravity/space-apps-dublin-2016
URL;VALUE=URI:https://ti.to/gravity/space-apps-dublin-2016
END:VEVENT
END:VCALENDAR
