BEGIN:VCALENDAR
VERSION:2.0
PRODID:icalendar-ruby
CALSCALE:GREGORIAN
BEGIN:VEVENT
DTSTAMP:20260425T005731Z
UID:dqZv0g
DTSTART;VALUE=DATE:20190225
DTEND;VALUE=DATE:20190227
CLASS:PUBLIC
CREATED:20180716T203429
DESCRIPTION: Join hundreds of monitoring aficionados and data enthusiasts f
 or GrafanaCon LA 2019 and the launch of Grafana 6. Learn about Grafana and
  the extended Grafana ecosystem including talks on Prometheus\, InfluxDB\,
  Graphite\, Kubernetes and more \n
LAST-MODIFIED:20200121T141139
LOCATION:Los Angeles\, CA
ORGANIZER:mailto:trent@grafana.com
SUMMARY:GrafanaCon LA 2019
URL;VALUE=URI:https://ti.to/grafanacon/grafanacon-la-2019
URL;VALUE=URI:https://ti.to/grafanacon/grafanacon-la-2019
END:VEVENT
END:VCALENDAR
