BEGIN:VCALENDAR
VERSION:2.0
PRODID:icalendar-ruby
CALSCALE:GREGORIAN
BEGIN:VEVENT
DTSTAMP:20260424T162321Z
UID:Tdyx5Q
DTSTART;VALUE=DATE:20180301
DTEND;VALUE=DATE:20180303
CLASS:PUBLIC
CREATED:20170302T145131
DESCRIPTION: Join Us for GrafanaCon EU and the Launch of Grafana 5.0! \n\n 
 GrafanaCon is a two-day event with talks centered around Grafana and the s
 urrounding ecosystem. In addition to the latest features and functionality
  of Grafana\, you can expect to see and hear from members of the monitorin
 g ecosystem like Graphite\, Prometheus\, InfluxData\, Elasticsearch\, and 
 more.  \n\n Our next GrafanaCon will be held at the Compagnietheater in Am
 sterdam\, Netherlands\, March 1-2\, 2018. See talks from Google\, Bloomber
 g\, CERN\, Tinder\, eBay\, and more. We're looking forward to seeing you t
 here! \n\n http://grafanacon.org \n
LAST-MODIFIED:20200121T141139
LOCATION:Amsterdam\, Netherlands
ORGANIZER:mailto:hello@grafana.com
SUMMARY:GrafanaCon EU
URL;VALUE=URI:https://ti.to/grafanacon/grafanacon-eu
URL;VALUE=URI:https://ti.to/grafanacon/grafanacon-eu
END:VEVENT
END:VCALENDAR
