BEGIN:VCALENDAR
VERSION:2.0
PRODID:icalendar-ruby
CALSCALE:GREGORIAN
BEGIN:VEVENT
DTSTAMP:20260424T193440Z
UID:F1dFfw
DTSTART;VALUE=DATE:20180725
DTEND;VALUE=DATE:20180728
CLASS:PUBLIC
CREATED:20180206T151208
LAST-MODIFIED:20180725T215310
LOCATION:Minneapolis MN
ORGANIZER:mailto:sabersd@gmail.com
SUMMARY:GR8Conf 2018
URL;VALUE=URI:https://ti.to/gr8conf/gr8conf-2018
URL;VALUE=URI:https://ti.to/gr8conf/gr8conf-2018
END:VEVENT
END:VCALENDAR
