BEGIN:VCALENDAR
VERSION:2.0
PRODID:icalendar-ruby
CALSCALE:GREGORIAN
BEGIN:VEVENT
DTSTAMP:20260425T181122Z
UID:2enXOw
DTSTART;VALUE=DATE:20170624
DTEND;VALUE=DATE:20170625
CLASS:PUBLIC
CREATED:20170409T201254
DESCRIPTION: The 11th GORUCO! \n\n A day will filled with fantastic speaker
 s covering both game-changing technical topics as well as mind-altering pe
 rspectives about the human side of software. \n\n Program and more informa
 tion at goruco.com \n
LAST-MODIFIED:20180529T214801
LOCATION:Pier 60 • New York\, NY
ORGANIZER:mailto:tickets@goruco.com
SUMMARY:GORUCO 2017
URL;VALUE=URI:https://ti.to/goruco/2017
URL;VALUE=URI:https://ti.to/goruco/2017
END:VEVENT
END:VCALENDAR
