BEGIN:VCALENDAR
VERSION:2.0
PRODID:icalendar-ruby
CALSCALE:GREGORIAN
BEGIN:VTIMEZONE
TZID:America/New_York
BEGIN:DAYLIGHT
DTSTART:20150308T030000
TZOFFSETFROM:-0500
TZOFFSETTO:-0400
RRULE:FREQ=YEARLY;BYDAY=2SU;BYMONTH=3
TZNAME:EDT
END:DAYLIGHT
BEGIN:STANDARD
DTSTART:20151101T010000
TZOFFSETFROM:-0400
TZOFFSETTO:-0500
RRULE:FREQ=YEARLY;BYDAY=1SU;BYMONTH=11
TZNAME:EST
END:STANDARD
END:VTIMEZONE
BEGIN:VEVENT
DTSTAMP:20260420T153617Z
UID:bQFizA
DTSTART;VALUE=DATE:20150620
DTEND;VALUE=DATE:20150621
CLASS:PUBLIC
CREATED:20150114T085041
DESCRIPTION: Gotham Ruby Conference 2015 \n
LAST-MODIFIED:20231212T052856
LOCATION:The Altman Building\, Manhattan\, NYC
ORGANIZER:mailto:tickets@goruco.com
SUMMARY:GORUCO 2015
URL;VALUE=URI:https://ti.to/goruco/2015
URL;VALUE=URI:https://ti.to/goruco/2015
END:VEVENT
END:VCALENDAR
