BEGIN:VCALENDAR
VERSION:2.0
PRODID:icalendar-ruby
CALSCALE:GREGORIAN
BEGIN:VTIMEZONE
TZID:Asia/Singapore
BEGIN:STANDARD
DTSTART:19820101T000000
TZOFFSETFROM:+0730
TZOFFSETTO:+0800
TZNAME:+08
END:STANDARD
END:VTIMEZONE
BEGIN:VEVENT
DTSTAMP:20260425T182114Z
UID:x8amTw
DTSTART;VALUE=DATE:20260520
DTEND;VALUE=DATE:20260523
CLASS:PUBLIC
CREATED:20260303T010622
DESCRIPTION: GopherCon Singapore 2026 is a Go programming language (Golang)
  conference held in Singapore. \n\n Conference \n\n Friday\, 22 May 2026 \
 n\n Workshops \n\n \n TinyGo Hack Session — Wednesday 20 May 2026 \n Ult
 imate Software Design and Engineering by William Kennedy — Wednesday\, 2
 0 May 2026 \n Ultimate Practical AI by Florin Patan — Thursday\, 21 May 
 2026 \n \n\n (The Ultimate Software Design and Engineering and Ultimate Pr
 actical AI workshops require separate tickets. The TinyGo Hack Session is 
 free for conference ticket holders. Please refer to our GopherCon SG websi
 te for information about the workshops.) \n
LAST-MODIFIED:20260422T220719
LOCATION:Singapore
ORGANIZER:mailto:hello@gophercon.sg
SUMMARY:GopherCon Singapore 2026
URL;VALUE=URI:https://ti.to/gopherconsg/2026
URL;VALUE=URI:https://ti.to/gopherconsg/2026
END:VEVENT
END:VCALENDAR
