BEGIN:VCALENDAR
VERSION:2.0
PRODID:icalendar-ruby
CALSCALE:GREGORIAN
BEGIN:VEVENT
DTSTAMP:20260419T194802Z
UID:6zlmmw
DTSTART;VALUE=DATE:20240628
DTEND;VALUE=DATE:20240629
CLASS:PUBLIC
CREATED:20231004T131949
DESCRIPTION: The single day\, single track Ruby conference for folks who li
 ke to go to the seaside\, learn things and hang out with fellow Rubyists. 
 \n
LAST-MODIFIED:20240627T165942
LOCATION:Brighton
ORGANIZER:mailto:andy@brightonruby.com
SUMMARY:Brighton Ruby 2024
URL;VALUE=URI:https://ti.to/goodscary/brighton-ruby-2024
URL;VALUE=URI:https://ti.to/goodscary/brighton-ruby-2024
END:VEVENT
END:VCALENDAR
