BEGIN:VCALENDAR
VERSION:2.0
PRODID:icalendar-ruby
CALSCALE:GREGORIAN
BEGIN:VEVENT
DTSTAMP:20260424T172515Z
UID:89dTvA
DTSTART;VALUE=DATE:20190303
DTEND;VALUE=DATE:20190304
CLASS:PUBLIC
CREATED:20190119T101351
DESCRIPTION: Fauves is a Glasgow based band which was formed in 2017 by Rya
 n Caldwell\, when he began recording some demos with the help of Ciaran De
 vlin on drums. Fauves made their live debut in March 2017 headlining a sol
 d out King Tuts in Glasgow with their current full live line up\, consisti
 ng of Ryan Caldwell\, Ciaran Devlin\, Jonny Glass\, Rory Bradley and Gianl
 uca Bernacchi. The band are recognisable for their unique sound and artwor
 ks\, taking their name and influence from Fauvism\, an early 20th Century 
 French art movement which utilised vibrant colours and shapes. \n\n SUPPOR
 TS:\nElena + hvsk \n\n Clarks on Lindsay Street is a 16+ venue\, U18s must
  be accompanied by a responsible adult of 21+\, 2 kids per adult max. \n
LAST-MODIFIED:20190303T173358
LOCATION:Dundee\, Scotland
ORGANIZER:mailto:gingerjesus@gjpromotions.co.uk
SUMMARY:Fauves
URL;VALUE=URI:https://ti.to/gjpromotionsuk/fauves
URL;VALUE=URI:https://ti.to/gjpromotionsuk/fauves
END:VEVENT
BEGIN:VEVENT
DTSTAMP:20260424T172515Z
UID:89dTvA1024220
DTSTART:20190303T190000
DTEND:20190303T223000
CLASS:PUBLIC
CREATED:20190119T102943
LAST-MODIFIED:20190208T152413
LOCATION:Clarks\, 80 N Lindsay Street\, \nDundee \nDD1 1PS
ORGANIZER:mailto:gingerjesus@gjpromotions.co.uk
SUMMARY:[Fauves] Fauves
URL;VALUE=URI:https://ti.to/gjpromotionsuk/fauves
URL;VALUE=URI:https://ti.to/gjpromotionsuk/fauves
END:VEVENT
END:VCALENDAR
