BEGIN:VCALENDAR
VERSION:2.0
PRODID:icalendar-ruby
CALSCALE:GREGORIAN
BEGIN:VTIMEZONE
TZID:Europe/London
BEGIN:DAYLIGHT
DTSTART:20210328T020000
TZOFFSETFROM:+0000
TZOFFSETTO:+0100
RRULE:FREQ=YEARLY;BYDAY=-1SU;BYMONTH=3
TZNAME:BST
END:DAYLIGHT
BEGIN:STANDARD
DTSTART:20211031T010000
TZOFFSETFROM:+0100
TZOFFSETTO:+0000
RRULE:FREQ=YEARLY;BYDAY=-1SU;BYMONTH=10
TZNAME:GMT
END:STANDARD
END:VTIMEZONE
BEGIN:VEVENT
DTSTAMP:20260423T124528Z
UID:11MRzg
DTSTART;VALUE=DATE:20211020
DTEND;VALUE=DATE:20211022
CLASS:PUBLIC
CREATED:20210603T135237
DESCRIPTION: JOIN THE COMMUNITY &amp\; ENJOY YOUR VUE! \n\n Over the past y
 ears\, Vue.js London has grown from a local Meetup of developers to a glob
 al conference. Our community has followed the expansion of the ecosystem a
 s a response to the increasing complexity of JavaScript app development. \
 n\n It's highly recommended to take the Vue development journey with the h
 elp of your fellow engineers – so connect with the global network of fie
 ld experts and explore the framework in London\, UK! \n\n Conference websi
 te: https://vuejs.london/ \n\n Covid-19 Measures &amp\; Policies: https://
 vuejs.london/covid \n\n Remote-only participation tickets: https://ti.to/g
 itnation/vuejs-conf-remote-only-2021 \n
LAST-MODIFIED:20251127T093934
LOCATION:Oval Space\, 29–32 The Oval London\, E2 9DT
ORGANIZER:mailto:events@gitnation.org
SUMMARY:Vue.js London 2021
URL;VALUE=URI:https://ti.to/gitnation/vuejs-london-2021
URL;VALUE=URI:https://ti.to/gitnation/vuejs-london-2021
END:VEVENT
BEGIN:VEVENT
DTSTAMP:20260423T124528Z
UID:11MRzg1038584
DTSTART;TZID=Europe/London:20210621T080000
DTEND;TZID=Europe/London:20210621T230000
CLASS:PUBLIC
CREATED:20210603T144157
LAST-MODIFIED:20210603T155113
LOCATION:Oval Space\, 29–32 The Oval\, London\, E2 9DT
ORGANIZER:mailto:events@gitnation.org
SUMMARY:[Vue.js London 2021] Conference day
URL;VALUE=URI:https://ti.to/gitnation/vuejs-london-2021
URL;VALUE=URI:https://ti.to/gitnation/vuejs-london-2021
END:VEVENT
END:VCALENDAR
