BEGIN:VCALENDAR
VERSION:2.0
PRODID:icalendar-ruby
CALSCALE:GREGORIAN
BEGIN:VTIMEZONE
TZID:Europe/London
BEGIN:DAYLIGHT
DTSTART:20210328T020000
TZOFFSETFROM:+0000
TZOFFSETTO:+0100
RRULE:FREQ=YEARLY;BYDAY=-1SU;BYMONTH=3
TZNAME:BST
END:DAYLIGHT
BEGIN:STANDARD
DTSTART:20211031T010000
TZOFFSETFROM:+0100
TZOFFSETTO:+0000
RRULE:FREQ=YEARLY;BYDAY=-1SU;BYMONTH=10
TZNAME:GMT
END:STANDARD
END:VTIMEZONE
BEGIN:VEVENT
DTSTAMP:20260423T125030Z
UID:qR7RMg
DTSTART;VALUE=DATE:20211020
DTEND;VALUE=DATE:20211022
CLASS:PUBLIC
CREATED:20210603T155215
DESCRIPTION: Attend the event remotely with all interactive features on Oct
  20-21! Join speaker rooms\, discussion tables\, workshops &amp\; more! \n
 \n Over the past years\, Vue.js London has grown from a local Meetup of de
 velopers to a global conference. Our community has followed the expansion 
 of the ecosystem as a response to the increasing complexity of JavaScript 
 app development. \n\n It's highly recommended to take the Vue development 
 journey with the help of your fellow engineers – so connect with the glo
 bal network of field experts and explore the framework! \n\n Engineers of 
 any level are welcome. \n\n Conference website: https://vuejslive.com \n\n
  In-person participation tickets: https://ti.to/gitnation/vuejs-london-202
 1 \n\n All attendees\, speakers\, sponsors and volunteers at our conferenc
 e are required to agree with the following code of conduct. \n
LAST-MODIFIED:20251127T093934
LOCATION:Online
ORGANIZER:mailto:events@gitnation.org
SUMMARY:Vue.js Live 2021
URL;VALUE=URI:https://ti.to/gitnation/vuejs-conf-remote-only-2021
URL;VALUE=URI:https://ti.to/gitnation/vuejs-conf-remote-only-2021
END:VEVENT
END:VCALENDAR
