BEGIN:VCALENDAR
VERSION:2.0
PRODID:icalendar-ruby
CALSCALE:GREGORIAN
BEGIN:VTIMEZONE
TZID:Europe/London
BEGIN:DAYLIGHT
DTSTART:20260329T020000
TZOFFSETFROM:+0000
TZOFFSETTO:+0100
RRULE:FREQ=YEARLY;BYDAY=-1SU;BYMONTH=3
TZNAME:BST
END:DAYLIGHT
BEGIN:STANDARD
DTSTART:20251026T010000
TZOFFSETFROM:+0100
TZOFFSETTO:+0000
RRULE:FREQ=YEARLY;BYDAY=-1SU;BYMONTH=10
TZNAME:GMT
END:STANDARD
END:VTIMEZONE
BEGIN:VEVENT
DTSTAMP:20260420T234139Z
UID:CQtmSg
DTSTART;TZID=Europe/London:20251128T090000
DTEND;TZID=Europe/London:20251128T180000
CLASS:PUBLIC
CREATED:20250716T102936
DESCRIPTION: Learn How Engineering Orgs Adopt AI In Practice \n\n TechLead 
 Conf 2025 tackles two critical challenges facing technical leaders today: 
 navigating AI adoption in organizations and reducing system complexity. Th
 rough real-world case studies from startups to Big Tech\, senior engineers
  and tech leads will share practical insights from the trenches. \n\n Conf
 erence website: http://techleadconf.com \n\n All attendees\, speakers\, sp
 onsors and volunteers at our conference are required to agree with the fol
 lowing code of conduct. \n
LAST-MODIFIED:20260216T220612
LOCATION:London
ORGANIZER:mailto:events@gitnation.org
SUMMARY:TechLead Conf London 2025: Adopting AI in Orgs Edition
URL;VALUE=URI:https://ti.to/gitnation/techlead-conference-london-2025
URL;VALUE=URI:https://ti.to/gitnation/techlead-conference-london-2025
END:VEVENT
END:VCALENDAR
